BEGIN:VCALENDAR
VERSION:2.0
PRODID:-//50501 Missouri - ECPv6.15.20//NONSGML v1.0//EN
CALSCALE:GREGORIAN
METHOD:PUBLISH
X-ORIGINAL-URL:https://missouri5050.one
X-WR-CALDESC:Events for 50501 Missouri
REFRESH-INTERVAL;VALUE=DURATION:PT1H
X-Robots-Tag:noindex
X-PUBLISHED-TTL:PT1H
BEGIN:VTIMEZONE
TZID:America/Chicago
BEGIN:DAYLIGHT
TZOFFSETFROM:-0600
TZOFFSETTO:-0500
TZNAME:CDT
DTSTART:20250309T080000
END:DAYLIGHT
BEGIN:STANDARD
TZOFFSETFROM:-0500
TZOFFSETTO:-0600
TZNAME:CST
DTSTART:20251102T070000
END:STANDARD
BEGIN:DAYLIGHT
TZOFFSETFROM:-0600
TZOFFSETTO:-0500
TZNAME:CDT
DTSTART:20260308T080000
END:DAYLIGHT
BEGIN:STANDARD
TZOFFSETFROM:-0500
TZOFFSETTO:-0600
TZNAME:CST
DTSTART:20261101T070000
END:STANDARD
BEGIN:DAYLIGHT
TZOFFSETFROM:-0600
TZOFFSETTO:-0500
TZNAME:CDT
DTSTART:20270314T080000
END:DAYLIGHT
BEGIN:STANDARD
TZOFFSETFROM:-0500
TZOFFSETTO:-0600
TZNAME:CST
DTSTART:20271107T070000
END:STANDARD
END:VTIMEZONE
BEGIN:VEVENT
DTSTART;TZID=America/Chicago:20260422T163000
DTEND;TZID=America/Chicago:20260422T180000
DTSTAMP:20260420T090455
CREATED:20260418T191744Z
LAST-MODIFIED:20260419T165842Z
UID:10000005-1776875400-1776880800@missouri5050.one
SUMMARY:Blue Springs Pop-Up Protest
DESCRIPTION:The Blue Springs Citizens Committee is once again hosting a peaceful protest in Blue Springs\, supported by 50501 KC\, 50501 Missouri\, and KC WAC. Bring your signs\, bring your energy\, and bring down the fascist regime! \nIt is Earth Day! Bring your Earth Day signs and let everyone know we must protect the planet. Citizens will fill the sidewalks to speak up in support of Earth Day. \nWe are also speaking out against fascism\, the oligarchy\, ICE\, and the fascist regime that has taken over our country. Choose your message and join everyone on Wednesday\, April 22nd to let this regime know we won’t back down\, we won’t be silent\, and we will do whatever it takes to build a better future without those who wish to subjugate the people and destroy our democracy.
URL:https://missouri5050.one/event/blue-springs-pop-up-protest/
LOCATION:Adams Dairy Landing\, 905 NE Adams Dairy Pkwy\, Blue Springs\, MO\, 64014\, United States
CATEGORIES:Protest
ATTACH;FMTTYPE=image/jpeg:https://missouri5050.one/wp-content/uploads/2026/04/Blue-Springs-Action-April-22-New-Logos-scaled.jpg
ORGANIZER;CN="50501 Kansas City":MAILTO:kansascity@missouri5050.one
END:VEVENT
BEGIN:VEVENT
DTSTART;TZID=America/Chicago:20260501T173000
DTEND;TZID=America/Chicago:20260501T193000
DTSTAMP:20260420T090455
CREATED:20260411T193627Z
LAST-MODIFIED:20260411T194141Z
UID:10000004-1777656600-1777663800@missouri5050.one
SUMMARY:May Day No Work - No School - No Shopping
DESCRIPTION:On May Day\, International Workers’ Day\, working people are rising up across Kansas City and across the country — No Work\, No School\, No Shopping! When we show up in the millions on May 1 and flex our collective economic power\, we will win: \n\nWorkers over billionaires!\nEnd ICE terror and keep families together!\nA democracy that works for ALL of us!\n\nMost of us get up every day to earn the bread and roses all working people deserve. But more and more\, we aren’t seeing the fruits of our labor. Bosses hold down our wages. Bigoted politicians turn us against each other to steal away our freedoms. Billionaires win\, while we lose. \nWe can’t afford to stay divided and defeated. We make America work. This country belongs to us\, not a fascist regime. If we want to take America back\, we’re going to have to do what we’ve always done as working people: Come together\, use our strength in numbers\, and take bold action to get things done together that we can’t get done on our own. \nWe are joining thousands of organizations for a day of disruption in cities across the country\, because when billionaires break every rule\, it will take more than a rally to stop them. After you register\, spread the word to your friends\, family\, and coworkers.
URL:https://missouri5050.one/event/may-day-no-work-no-school-no-shopping/
LOCATION:Washington Square Park\, 100 E. Pershing Rd\, Kansas City\, MO\, 64108\, United States
CATEGORIES:Protest,Strike
ATTACH;FMTTYPE=image/jpeg:https://missouri5050.one/wp-content/uploads/2026/04/mayday-action.jpg
ORGANIZER;CN="50501 Kansas City":MAILTO:kansascity@missouri5050.one
END:VEVENT
END:VCALENDAR